BEGIN:VCALENDAR
VERSION:2.0
PRODID:-//Anna Church of Christ - ECPv6.15.20//NONSGML v1.0//EN
CALSCALE:GREGORIAN
METHOD:PUBLISH
X-WR-CALNAME:Anna Church of Christ
X-ORIGINAL-URL:https://annachurchofchristil.com
X-WR-CALDESC:Events for Anna Church of Christ
REFRESH-INTERVAL;VALUE=DURATION:PT1H
X-Robots-Tag:noindex
X-PUBLISHED-TTL:PT1H
BEGIN:VTIMEZONE
TZID:America/Chicago
BEGIN:DAYLIGHT
TZOFFSETFROM:-0600
TZOFFSETTO:-0500
TZNAME:CDT
DTSTART:20250309T080000
END:DAYLIGHT
BEGIN:STANDARD
TZOFFSETFROM:-0500
TZOFFSETTO:-0600
TZNAME:CST
DTSTART:20251102T070000
END:STANDARD
BEGIN:DAYLIGHT
TZOFFSETFROM:-0600
TZOFFSETTO:-0500
TZNAME:CDT
DTSTART:20260308T080000
END:DAYLIGHT
BEGIN:STANDARD
TZOFFSETFROM:-0500
TZOFFSETTO:-0600
TZNAME:CST
DTSTART:20261101T070000
END:STANDARD
BEGIN:DAYLIGHT
TZOFFSETFROM:-0600
TZOFFSETTO:-0500
TZNAME:CDT
DTSTART:20270314T080000
END:DAYLIGHT
BEGIN:STANDARD
TZOFFSETFROM:-0500
TZOFFSETTO:-0600
TZNAME:CST
DTSTART:20271107T070000
END:STANDARD
END:VTIMEZONE
BEGIN:VEVENT
DTSTART;TZID=America/Chicago:20260508T190000
DTEND;TZID=America/Chicago:20260510T153000
DTSTAMP:20260423T060340
CREATED:20260320T001851Z
LAST-MODIFIED:20260321T030116Z
UID:928-1778266800-1778427000@annachurchofchristil.com
SUMMARY:2026 Spring Gospel Meeting
DESCRIPTION:May 8-10\, 2026 \nTheme:  “Not Just Children’s Stories”\nSpeaker:  Andy Baker\, Arnold church of Christ\, Arnold\, MO \nFriday –      May 8 – 7:00 p.m.      Creation (Genesis 1)\nSaturday –  May 9\, 7:00 p.m.       The Tower of Babel (Genesis 11)\nSunday –    May 10\, 9:30 a.m.      The Sharing Lepers (2 Kings 7)\nSunday –    May 10\, 10:30 p.m.    The Feeding of the 5000 (Luke 9)\nSunday –    May 10\, 1:30 p.m.      Jesus Walking on the Water (Matthew 8) \n \nClick link below to download the flyer: \nhttps://annachurchofchristil.com/wp-content/uploads/2026-springflyer-final.pdf
URL:https://annachurchofchristil.com/event/2026-spring-gospel-meeting/
LOCATION:Anna Church of Christ\, 104 Nile Street\, Anna\, IL\, 62906\, United States
END:VEVENT
END:VCALENDAR